BEGIN:VCALENDAR
VERSION:2.0
PRODID:-//David and Ale//NONSGML kigkonsult.se iCalcreator 2.30.10//
CALSCALE:GREGORIAN
METHOD:PUBLISH
UID:1071732a-b8d5-4e01-b49d-2d61a4b2508e
X-WR-CALNAME:iCagenda
X-WR-CALDESC:Event Management Extension for Joomla!
X-WR-RELCALID:3E26604A-50F4-4449-8B3E-E4F4932D05B5
X-WR-TIMEZONE:UTC
BEGIN:VTIMEZONE
TZID:UTC
END:VTIMEZONE
BEGIN:VEVENT
UID:0787666b-ee26-40f1-afce-0773570e0a2d
DTSTAMP:20260422T102930Z
CATEGORIES:Wedding
CLASS:PUBLIC
DESCRIPTION:
DTSTART:20230507T170000Z
DTEND:20230507T170000Z
GEO:-33.618248;-70.721512
LOCATION:Centro de Eventos El Barrancón
ORGANIZER:
SEQUENCE:1
SUMMARY:Wedding reception
TRANSP:OPAQUE
URL:https://davidandale.ca.customcautiontape.com/index.php/fr/component/ica
 genda/2-reception/2023-05-07-17-00?Itemid=106
END:VEVENT
END:VCALENDAR
